BEGIN:VCALENDAR
VERSION:2.0
PRODID:-//arlegalaid.org//NONSGML kigkonsult.se iCalcreator 2.30.10//
CALSCALE:GREGORIAN
METHOD:PUBLISH
UID:aa50cb77-2bd2-411f-87d4-b03d041d5863
X-WR-CALDESC:
X-WR-RELCALID:6a549944de803db4f10be044dbd4c2f4
X-WR-TIMEZONE:America/Chicago
BEGIN:VTIMEZONE
TZID:America/Chicago
BEGIN:STANDARD
TZNAME:CST
DTSTART:20221106T020000
TZOFFSETFROM:-0500
TZOFFSETTO:-0600
RDATE:20231105T020000
END:STANDARD
BEGIN:DAYLIGHT
TZNAME:CDT
DTSTART:20230312T020000
TZOFFSETFROM:-0600
TZOFFSETTO:-0500
RDATE:20240310T020000
END:DAYLIGHT
END:VTIMEZONE
BEGIN:VEVENT
UID:d15a474a-a988-40d3-970b-1f06d582a0c7
DTSTAMP:20260422T054126Z
DESCRIPTION:
DTSTART;TZID=America/Chicago:20230323T100000
DTEND;TZID=America/Chicago:20230323T130000
LOCATION:
SUMMARY:Spring Break On the Road to Justice in Helena\, AR
END:VEVENT
END:VCALENDAR
