BEGIN:VCALENDAR
VERSION:2.0
PRODID:-//arlegalaid.org//NONSGML kigkonsult.se iCalcreator 2.30.10//
CALSCALE:GREGORIAN
METHOD:PUBLISH
UID:e6b0a733-5bec-4285-b8f0-34e10d9dab50
X-WR-CALDESC:Sign up by clicking on the link.
X-WR-RELCALID:3fff65dd2fb20156b6d95963ac9b5532
X-WR-TIMEZONE:America/Chicago
BEGIN:VTIMEZONE
TZID:America/Chicago
BEGIN:STANDARD
TZNAME:CST
DTSTART:20221106T020000
TZOFFSETFROM:-0500
TZOFFSETTO:-0600
RDATE:20231105T020000
END:STANDARD
BEGIN:DAYLIGHT
TZNAME:CDT
DTSTART:20230312T020000
TZOFFSETFROM:-0600
TZOFFSETTO:-0500
RDATE:20240310T020000
END:DAYLIGHT
END:VTIMEZONE
BEGIN:VEVENT
UID:16ff16b2-83cf-470b-b114-b281fc51bb21
DTSTAMP:20260422T052800Z
DESCRIPTION:Sign up by clicking on the link.
DTSTART;TZID=America/Chicago:20230324T090000
DTEND;TZID=America/Chicago:20230324T120000
LOCATION:Washington County Law Library
SUMMARY:Help Desk: Washington County Law Library
END:VEVENT
END:VCALENDAR
