BEGIN:VCALENDAR
VERSION:2.0
PRODID:-//arlegalaid.org//NONSGML kigkonsult.se iCalcreator 2.30.10//
CALSCALE:GREGORIAN
METHOD:PUBLISH
UID:3dc27d6c-c18f-4396-b0be-2aff431d512b
X-WR-CALDESC:March 25: Super Saturday Event - Jonesboro\, AR: Estate Planni
 ng and Record Sealing Clinic
X-WR-RELCALID:af8831d130c9feb85c43ce47f39f8bb6
X-WR-TIMEZONE:America/Chicago
BEGIN:VTIMEZONE
TZID:America/Chicago
BEGIN:STANDARD
TZNAME:CST
DTSTART:20221106T020000
TZOFFSETFROM:-0500
TZOFFSETTO:-0600
RDATE:20231105T020000
END:STANDARD
BEGIN:DAYLIGHT
TZNAME:CDT
DTSTART:20230312T020000
TZOFFSETFROM:-0600
TZOFFSETTO:-0500
RDATE:20240310T020000
END:DAYLIGHT
END:VTIMEZONE
BEGIN:VEVENT
UID:460a95fe-6679-4f2f-82da-a52429d39b84
DTSTAMP:20260422T053139Z
DESCRIPTION:March 25: Super Saturday Event - Jonesboro\, AR: Estate Plannin
 g and Record Sealing Clinic
DTSTART;TZID=America/Chicago:20230325T090000
DTEND;TZID=America/Chicago:20230325T160000
LOCATION:
SUMMARY:Super Saturday Event - Jonesboro\, AR: Estate Planning and Record S
 ealing Clinic
END:VEVENT
END:VCALENDAR
