BEGIN:VCALENDAR
VERSION:2.0
PRODID:-//arlegalaid.org//NONSGML kigkonsult.se iCalcreator 2.30.10//
CALSCALE:GREGORIAN
METHOD:PUBLISH
UID:50628b09-6ed6-40f9-b37e-b08d5ef638bf
X-WR-CALDESC:
X-WR-RELCALID:24d4bbcf38201acf5217095bf482e5fe
X-WR-TIMEZONE:America/Chicago
BEGIN:VTIMEZONE
TZID:America/Chicago
BEGIN:STANDARD
TZNAME:CST
DTSTART:20221106T020000
TZOFFSETFROM:-0500
TZOFFSETTO:-0600
RDATE:20231105T020000
END:STANDARD
BEGIN:DAYLIGHT
TZNAME:CDT
DTSTART:20230312T020000
TZOFFSETFROM:-0600
TZOFFSETTO:-0500
RDATE:20240310T020000
END:DAYLIGHT
END:VTIMEZONE
BEGIN:VEVENT
UID:1ee4da69-9914-4d4a-89dc-f0bd5729f2f2
DTSTAMP:20260422T052901Z
DESCRIPTION:
DTSTART;TZID=America/Chicago:20230328T000000
DTEND;TZID=America/Chicago:20230328T235900
LOCATION:
SUMMARY:Estate Planning Clinic\, Trumann\, AR
END:VEVENT
END:VCALENDAR
