BEGIN:VCALENDAR
VERSION:2.0
PRODID:-//arlegalaid.org//NONSGML kigkonsult.se iCalcreator 2.30.10//
CALSCALE:GREGORIAN
METHOD:PUBLISH
UID:1c910d4e-6b50-4702-bd19-bddc8f292d05
X-WR-CALDESC:
X-WR-RELCALID:9c1c98b0840d5ca6fc083f520a17f9d5
X-WR-TIMEZONE:America/Chicago
BEGIN:VTIMEZONE
TZID:America/Chicago
BEGIN:STANDARD
TZNAME:CST
DTSTART:20221106T020000
TZOFFSETFROM:-0500
TZOFFSETTO:-0600
RDATE:20231105T020000
END:STANDARD
BEGIN:DAYLIGHT
TZNAME:CDT
DTSTART:20230312T020000
TZOFFSETFROM:-0600
TZOFFSETTO:-0500
RDATE:20240310T020000
END:DAYLIGHT
END:VTIMEZONE
BEGIN:VEVENT
UID:457fd687-2944-4935-9fc9-8a85dfb9142f
DTSTAMP:20260422T053127Z
DESCRIPTION:
DTSTART;TZID=America/Chicago:20230331T090000
DTEND;TZID=America/Chicago:20230331T150000
LOCATION:1200 W. Walnut St. \, Rogers \, AR 72756 US
SUMMARY:Estate Planning Clinic in Rogers AR\, at the Center For Non-Profits
 .
END:VEVENT
END:VCALENDAR
