BEGIN:VCALENDAR
VERSION:2.0
PRODID:-//arlegalaid.org//NONSGML kigkonsult.se iCalcreator 2.30.10//
CALSCALE:GREGORIAN
METHOD:PUBLISH
UID:e570120c-98f9-4597-858f-8982a488f35f
X-WR-CALDESC:
X-WR-RELCALID:7d077ad5ebc58ac4893dcd5c13327f45
X-WR-TIMEZONE:America/Chicago
BEGIN:VTIMEZONE
TZID:America/Chicago
BEGIN:STANDARD
TZNAME:CST
DTSTART:20221106T020000
TZOFFSETFROM:-0500
TZOFFSETTO:-0600
RDATE:20231105T020000
END:STANDARD
BEGIN:DAYLIGHT
TZNAME:CDT
DTSTART:20230312T020000
TZOFFSETFROM:-0600
TZOFFSETTO:-0500
RDATE:20240310T020000
END:DAYLIGHT
END:VTIMEZONE
BEGIN:VEVENT
UID:2167c5ec-55c9-49d6-9079-0815075d7f38
DTSTAMP:20260422T041633Z
DESCRIPTION:
DTSTART;TZID=America/Chicago:20230401T100000
DTEND;TZID=America/Chicago:20230401T110000
LOCATION:The Jones Center\, Sprindgale\, Ar
SUMMARY:TRANS VISIBILITY DAY  FREE LEGAL CLINIC (More info to come)
END:VEVENT
END:VCALENDAR
