BEGIN:VCALENDAR
VERSION:2.0
PRODID:-//arlegalaid.org//NONSGML kigkonsult.se iCalcreator 2.30.10//
CALSCALE:GREGORIAN
METHOD:PUBLISH
UID:b314fde2-7b8f-4071-915f-e6e6f84a2c3d
X-WR-CALDESC:Rogers Public Library Achieve Program: Power of Attorney/End o
 f Life Presentation
X-WR-RELCALID:82626161411a9bb76623281d2ad11061
X-WR-TIMEZONE:America/Chicago
BEGIN:VTIMEZONE
TZID:America/Chicago
BEGIN:STANDARD
TZNAME:CST
DTSTART:20221106T020000
TZOFFSETFROM:-0500
TZOFFSETTO:-0600
RDATE:20231105T020000
END:STANDARD
BEGIN:DAYLIGHT
TZNAME:CDT
DTSTART:20230312T020000
TZOFFSETFROM:-0600
TZOFFSETTO:-0500
RDATE:20240310T020000
END:DAYLIGHT
END:VTIMEZONE
BEGIN:VEVENT
UID:3abe3a5c-eb41-47e4-bd4d-3b357e64e7c5
DTSTAMP:20260422T035908Z
DESCRIPTION:Rogers Public Library Achieve Program: Power of Attorney/End of
  Life Presentation
DTSTART;TZID=America/Chicago:20230405T160000
DTEND;TZID=America/Chicago:20230405T170000
LOCATION:
SUMMARY:Rogers Public Library Achieve Program: Power of Attorney/End of Lif
 e Presentation
END:VEVENT
END:VCALENDAR
