BEGIN:VCALENDAR
VERSION:2.0
PRODID:-//arlegalaid.org//NONSGML kigkonsult.se iCalcreator 2.30.10//
CALSCALE:GREGORIAN
METHOD:PUBLISH
UID:5fa44767-2378-47b0-94a3-50acc0555ad3
X-WR-CALDESC:
X-WR-RELCALID:e9f6cf1ee5cb9718aaee185b72bd1b77
X-WR-TIMEZONE:America/Chicago
BEGIN:VTIMEZONE
TZID:America/Chicago
BEGIN:STANDARD
TZNAME:CST
DTSTART:20221106T020000
TZOFFSETFROM:-0500
TZOFFSETTO:-0600
RDATE:20231105T020000
END:STANDARD
BEGIN:DAYLIGHT
TZNAME:CDT
DTSTART:20230312T020000
TZOFFSETFROM:-0600
TZOFFSETTO:-0500
RDATE:20240310T020000
END:DAYLIGHT
END:VTIMEZONE
BEGIN:VEVENT
UID:f414a79d-027d-4d22-a3c4-48e1d62c2370
DTSTAMP:20260422T040302Z
DESCRIPTION:
DTSTART;TZID=America/Chicago:20230408T000000
DTEND;TZID=America/Chicago:20230408T235900
LOCATION:
SUMMARY:Estate Planning Clinic for the Single Parent Scholarship Fund\, Ben
 tonville\, AR.
END:VEVENT
END:VCALENDAR
