BEGIN:VCALENDAR
VERSION:2.0
PRODID:-//arlegalaid.org//NONSGML kigkonsult.se iCalcreator 2.30.10//
CALSCALE:GREGORIAN
METHOD:PUBLISH
UID:0e28f81d-29a7-4d52-ba35-330229376f03
X-WR-CALDESC:
X-WR-RELCALID:6b53e9f684e95e1c42ded8e21c3abc3e
X-WR-TIMEZONE:America/Chicago
BEGIN:VTIMEZONE
TZID:America/Chicago
BEGIN:STANDARD
TZNAME:CST
DTSTART:20221106T020000
TZOFFSETFROM:-0500
TZOFFSETTO:-0600
RDATE:20231105T020000
END:STANDARD
BEGIN:DAYLIGHT
TZNAME:CDT
DTSTART:20230312T020000
TZOFFSETFROM:-0600
TZOFFSETTO:-0500
RDATE:20240310T020000
END:DAYLIGHT
END:VTIMEZONE
BEGIN:VEVENT
UID:ea147892-758c-46ca-b4a1-51583d95980a
DTSTAMP:20260422T035609Z
DESCRIPTION:
DTSTART;TZID=America/Chicago:20230411T000000
DTEND;TZID=America/Chicago:20230411T235900
LOCATION:
SUMMARY:Estate Planning Informational Session in Heber Springs\, AR
END:VEVENT
END:VCALENDAR
