BEGIN:VCALENDAR
VERSION:2.0
PRODID:-//arlegalaid.org//NONSGML kigkonsult.se iCalcreator 2.30.10//
CALSCALE:GREGORIAN
METHOD:PUBLISH
UID:5853dd2c-4576-487e-bc85-858a9fb57004
X-WR-CALDESC:
X-WR-RELCALID:03956b1ce5c3c0f0dae37f00c3aa4390
X-WR-TIMEZONE:America/Chicago
BEGIN:VTIMEZONE
TZID:America/Chicago
BEGIN:STANDARD
TZNAME:CST
DTSTART:20221106T020000
TZOFFSETFROM:-0500
TZOFFSETTO:-0600
RDATE:20231105T020000
END:STANDARD
BEGIN:DAYLIGHT
TZNAME:CDT
DTSTART:20230312T020000
TZOFFSETFROM:-0600
TZOFFSETTO:-0500
RDATE:20240310T020000
END:DAYLIGHT
END:VTIMEZONE
BEGIN:VEVENT
UID:2ad0b9cb-f7d3-4169-be62-601a211b8aba
DTSTAMP:20260422T035902Z
DESCRIPTION:
DTSTART;TZID=America/Chicago:20230412T000000
DTEND;TZID=America/Chicago:20230412T235900
LOCATION:
SUMMARY:Estate Planning Informational Session in Fairfield Bay\, AR
END:VEVENT
END:VCALENDAR
