BEGIN:VCALENDAR
VERSION:2.0
PRODID:-//arlegalaid.org//NONSGML kigkonsult.se iCalcreator 2.30.10//
CALSCALE:GREGORIAN
METHOD:PUBLISH
UID:dab8bfa5-f876-4afb-b2e9-966fad0f7187
X-WR-CALDESC:
X-WR-RELCALID:64aa22c0189a7e19a81c3cd5a84edc0e
X-WR-TIMEZONE:America/Chicago
BEGIN:VTIMEZONE
TZID:America/Chicago
BEGIN:STANDARD
TZNAME:CST
DTSTART:20221106T020000
TZOFFSETFROM:-0500
TZOFFSETTO:-0600
RDATE:20231105T020000
END:STANDARD
BEGIN:DAYLIGHT
TZNAME:CDT
DTSTART:20230312T020000
TZOFFSETFROM:-0600
TZOFFSETTO:-0500
RDATE:20240310T020000
END:DAYLIGHT
END:VTIMEZONE
BEGIN:VEVENT
UID:6b94790f-e0a6-4b34-b9c6-b546394b7d3b
DTSTAMP:20260422T035430Z
DESCRIPTION:
DTSTART;TZID=America/Chicago:20230414T000000
DTEND;TZID=America/Chicago:20230414T235900
LOCATION:
SUMMARY:Estate Planning Clinic\, Trumann\, AR
END:VEVENT
END:VCALENDAR
