BEGIN:VCALENDAR
VERSION:2.0
PRODID:-//arlegalaid.org//NONSGML kigkonsult.se iCalcreator 2.30.10//
CALSCALE:GREGORIAN
METHOD:PUBLISH
UID:cd05e114-1ed4-44e9-b607-299c19957a0a
X-WR-CALDESC:
X-WR-RELCALID:fdd05f03ce03a3f7a61a12520a09e78e
X-WR-TIMEZONE:America/Chicago
BEGIN:VTIMEZONE
TZID:America/Chicago
BEGIN:STANDARD
TZNAME:CST
DTSTART:20221106T020000
TZOFFSETFROM:-0500
TZOFFSETTO:-0600
RDATE:20231105T020000
END:STANDARD
BEGIN:DAYLIGHT
TZNAME:CDT
DTSTART:20230312T020000
TZOFFSETFROM:-0600
TZOFFSETTO:-0500
RDATE:20240310T020000
END:DAYLIGHT
END:VTIMEZONE
BEGIN:VEVENT
UID:0101a1b5-72ac-46b9-99e0-93242e346ebc
DTSTAMP:20260422T035400Z
DESCRIPTION:
DTSTART;TZID=America/Chicago:20230425T160000
DTEND;TZID=America/Chicago:20230425T170000
LOCATION:Facebook page: arlegalaid
SUMMARY:FB Live: Taxes and Deadlines
END:VEVENT
END:VCALENDAR
