BEGIN:VCALENDAR
VERSION:2.0
PRODID:-//arlegalaid.org//NONSGML kigkonsult.se iCalcreator 2.30.10//
CALSCALE:GREGORIAN
METHOD:PUBLISH
UID:24dbfefb-5853-48e9-91ee-df7c8454ec18
X-WR-CALDESC:
X-WR-RELCALID:fc78e600d8eecefdc7318500950fac3d
X-WR-TIMEZONE:America/Chicago
BEGIN:VTIMEZONE
TZID:America/Chicago
BEGIN:STANDARD
TZNAME:CST
DTSTART:20221106T020000
TZOFFSETFROM:-0500
TZOFFSETTO:-0600
RDATE:20231105T020000
END:STANDARD
BEGIN:DAYLIGHT
TZNAME:CDT
DTSTART:20230312T020000
TZOFFSETFROM:-0600
TZOFFSETTO:-0500
RDATE:20240310T020000
END:DAYLIGHT
END:VTIMEZONE
BEGIN:VEVENT
UID:c55e43d6-47ae-4b5e-9503-2199792b05f8
DTSTAMP:20260422T042009Z
DESCRIPTION:
DTSTART;TZID=America/Chicago:20230425T000000
DTEND;TZID=America/Chicago:20230425T235900
LOCATION:Downtown Jonesboro\, AR
SUMMARY:NEA Pridefest 2023
END:VEVENT
END:VCALENDAR
