BEGIN:VCALENDAR
VERSION:2.0
PRODID:-//arlegalaid.org//NONSGML kigkonsult.se iCalcreator 2.30.10//
CALSCALE:GREGORIAN
METHOD:PUBLISH
UID:c476eea9-c66a-49a1-8922-1b74d5100b5f
X-WR-CALDESC:Sign up by clicking on the link.
X-WR-RELCALID:34daeb98997abd1c6df3ff894c17ff5f
X-WR-TIMEZONE:America/Chicago
BEGIN:VTIMEZONE
TZID:America/Chicago
BEGIN:STANDARD
TZNAME:CST
DTSTART:20221106T020000
TZOFFSETFROM:-0500
TZOFFSETTO:-0600
RDATE:20231105T020000
END:STANDARD
BEGIN:DAYLIGHT
TZNAME:CDT
DTSTART:20230312T020000
TZOFFSETFROM:-0600
TZOFFSETTO:-0500
RDATE:20240310T020000
END:DAYLIGHT
END:VTIMEZONE
BEGIN:VEVENT
UID:30f54146-7a00-4ae5-b90c-bf3e566dad83
DTSTAMP:20260422T035746Z
DESCRIPTION:Sign up by clicking on the link.
DTSTART;TZID=America/Chicago:20230428T090000
DTEND;TZID=America/Chicago:20230428T120000
LOCATION:Washington County Law Library
SUMMARY:Help Desk: Washington County Law Library
END:VEVENT
END:VCALENDAR
