BEGIN:VCALENDAR
VERSION:2.0
PRODID:-//arlegalaid.org//NONSGML kigkonsult.se iCalcreator 2.30.10//
CALSCALE:GREGORIAN
METHOD:PUBLISH
UID:2dc70267-8fda-4410-8062-6a516aea062b
X-WR-CALDESC:
X-WR-RELCALID:d99fa83d97301bd2264f37cbdfae1ca7
X-WR-TIMEZONE:America/Chicago
BEGIN:VTIMEZONE
TZID:America/Chicago
BEGIN:STANDARD
TZNAME:CST
DTSTART:20221106T020000
TZOFFSETFROM:-0500
TZOFFSETTO:-0600
RDATE:20231105T020000
END:STANDARD
BEGIN:DAYLIGHT
TZNAME:CDT
DTSTART:20230312T020000
TZOFFSETFROM:-0600
TZOFFSETTO:-0500
RDATE:20240310T020000
END:DAYLIGHT
END:VTIMEZONE
BEGIN:VEVENT
UID:06dec552-e6b4-4599-a848-100e37e412c4
DTSTAMP:20260422T035603Z
DESCRIPTION:
DTSTART;TZID=America/Chicago:20230429T080000
DTEND;TZID=America/Chicago:20230429T140000
LOCATION:Lehr Arena\, West Memphis AR
SUMMARY:Record Sealing Clinic\, Lehr Arena
END:VEVENT
END:VCALENDAR
