BEGIN:VCALENDAR
VERSION:2.0
PRODID:-//arlegalaid.org//NONSGML kigkonsult.se iCalcreator 2.30.10//
CALSCALE:GREGORIAN
METHOD:PUBLISH
UID:3bcde025-53f5-4eb9-b5f6-a88f092287cb
X-WR-CALDESC:Rogers Public Library Achieve Program: Estate Planning Present
 ation
X-WR-RELCALID:2167eae9e202b9e28e1991f20c79756a
X-WR-TIMEZONE:America/Chicago
BEGIN:VTIMEZONE
TZID:America/Chicago
BEGIN:STANDARD
TZNAME:CST
DTSTART:20221106T020000
TZOFFSETFROM:-0500
TZOFFSETTO:-0600
RDATE:20231105T020000
END:STANDARD
BEGIN:DAYLIGHT
TZNAME:CDT
DTSTART:20230312T020000
TZOFFSETFROM:-0600
TZOFFSETTO:-0500
RDATE:20240310T020000
END:DAYLIGHT
END:VTIMEZONE
BEGIN:VEVENT
UID:6c2a8e44-5a3a-410b-ae43-c6b68ac396bf
DTSTAMP:20260422T022016Z
DESCRIPTION:Rogers Public Library Achieve Program: Estate Planning Presenta
 tion
DTSTART;TZID=America/Chicago:20230503T000000
DTEND;TZID=America/Chicago:20230503T235900
LOCATION:
SUMMARY:Rogers Public Library Achieve Program: Estate Planning Presentation
END:VEVENT
END:VCALENDAR
