BEGIN:VCALENDAR
VERSION:2.0
PRODID:-//arlegalaid.org//NONSGML kigkonsult.se iCalcreator 2.30.10//
CALSCALE:GREGORIAN
METHOD:PUBLISH
UID:7feff446-88ce-41a6-8a07-908c487500cf
X-WR-CALDESC:
X-WR-RELCALID:8503ada7824d755be9317eabf468182b
X-WR-TIMEZONE:America/Chicago
BEGIN:VTIMEZONE
TZID:America/Chicago
BEGIN:STANDARD
TZNAME:CST
DTSTART:20221106T020000
TZOFFSETFROM:-0500
TZOFFSETTO:-0600
RDATE:20231105T020000
RDATE:20241103T020000
END:STANDARD
BEGIN:DAYLIGHT
TZNAME:CDT
DTSTART:20230312T020000
TZOFFSETFROM:-0600
TZOFFSETTO:-0500
RDATE:20240310T020000
END:DAYLIGHT
END:VTIMEZONE
BEGIN:VEVENT
UID:c1b881bc-3730-450f-94de-bfa49efc4d9f
DTSTAMP:20260422T022731Z
DESCRIPTION:
DTSTART;TZID=America/Chicago:20230506T120000
DTEND;TZID=America/Chicago:20230506T190000
LOCATION:The Jones Center\, Springdale AR
SUMMARY:Cinco de Mayo Festival\, Jones Center
END:VEVENT
END:VCALENDAR
