BEGIN:VCALENDAR
VERSION:2.0
PRODID:-//arlegalaid.org//NONSGML kigkonsult.se iCalcreator 2.30.10//
CALSCALE:GREGORIAN
METHOD:PUBLISH
UID:9bc7224f-b8af-4307-80c2-4c9df419c00e
X-WR-CALDESC:Sign up by clicking on the link.
X-WR-RELCALID:d763433b275d985034d6bd9631d575ae
X-WR-TIMEZONE:America/Chicago
BEGIN:VTIMEZONE
TZID:America/Chicago
BEGIN:STANDARD
TZNAME:CST
DTSTART:20221106T020000
TZOFFSETFROM:-0500
TZOFFSETTO:-0600
RDATE:20231105T020000
RDATE:20241103T020000
END:STANDARD
BEGIN:DAYLIGHT
TZNAME:CDT
DTSTART:20230312T020000
TZOFFSETFROM:-0600
TZOFFSETTO:-0500
RDATE:20240310T020000
END:DAYLIGHT
END:VTIMEZONE
BEGIN:VEVENT
UID:d5c27ddb-e59e-4b01-9d82-c71415027827
DTSTAMP:20260422T022129Z
DESCRIPTION:Sign up by clicking on the link.
DTSTART;TZID=America/Chicago:20230519T090000
DTEND;TZID=America/Chicago:20230519T120000
LOCATION:Washington County Law Library
SUMMARY:Help Desk: Washington County Law Library
END:VEVENT
END:VCALENDAR
