BEGIN:VCALENDAR
VERSION:2.0
PRODID:-//arlegalaid.org//NONSGML kigkonsult.se iCalcreator 2.30.10//
CALSCALE:GREGORIAN
METHOD:PUBLISH
UID:b1257691-150c-4ad8-b545-32ec4885e838
X-WR-CALDESC:
X-WR-RELCALID:ef13fc4c6fd9d944ccc632bf296a3870
X-WR-TIMEZONE:America/Chicago
BEGIN:VTIMEZONE
TZID:America/Chicago
BEGIN:STANDARD
TZNAME:CST
DTSTART:20221106T020000
TZOFFSETFROM:-0500
TZOFFSETTO:-0600
RDATE:20231105T020000
RDATE:20241103T020000
END:STANDARD
BEGIN:DAYLIGHT
TZNAME:CDT
DTSTART:20230312T020000
TZOFFSETFROM:-0600
TZOFFSETTO:-0500
RDATE:20240310T020000
END:DAYLIGHT
END:VTIMEZONE
BEGIN:VEVENT
UID:fbf9a553-65d7-49b7-9dfd-e2a2bb7b6fe8
DTSTAMP:20260422T022055Z
DESCRIPTION:
DTSTART;TZID=America/Chicago:20230519T110000
DTEND;TZID=America/Chicago:20230519T120000
LOCATION:City Hall\, 116 Main St.\, Leachville\, AR
SUMMARY:Estate Planning Clinic
END:VEVENT
END:VCALENDAR
