BEGIN:VCALENDAR
VERSION:2.0
PRODID:-//arlegalaid.org//NONSGML kigkonsult.se iCalcreator 2.30.10//
CALSCALE:GREGORIAN
METHOD:PUBLISH
UID:51f60d38-cb81-4037-a2e1-e748a6fbc86e
X-WR-CALDESC:
X-WR-RELCALID:54ef5aa815600cfbff46e726b9e7aa31
X-WR-TIMEZONE:America/Chicago
BEGIN:VTIMEZONE
TZID:America/Chicago
BEGIN:STANDARD
TZNAME:CST
DTSTART:20221106T020000
TZOFFSETFROM:-0500
TZOFFSETTO:-0600
RDATE:20231105T020000
RDATE:20241103T020000
END:STANDARD
BEGIN:DAYLIGHT
TZNAME:CDT
DTSTART:20230312T020000
TZOFFSETFROM:-0600
TZOFFSETTO:-0500
RDATE:20240310T020000
END:DAYLIGHT
END:VTIMEZONE
BEGIN:VEVENT
UID:f1ad2d27-44d3-4ed6-8d6e-926aa045efbb
DTSTAMP:20260422T022016Z
DESCRIPTION:
DTSTART;TZID=America/Chicago:20230520T110000
DTEND;TZID=America/Chicago:20230520T190000
LOCATION:Griffin Park\, 300 Stone Creek Rd.\, Hardy\, AR
SUMMARY:Ozark Pride Celebration\, Griffin Park
END:VEVENT
END:VCALENDAR
