BEGIN:VCALENDAR
VERSION:2.0
PRODID:-//arlegalaid.org//NONSGML kigkonsult.se iCalcreator 2.30.10//
CALSCALE:GREGORIAN
METHOD:PUBLISH
UID:3811af2f-05ff-4eb7-81b3-168ef717355c
X-WR-CALDESC:
X-WR-RELCALID:0ae64ffba37ea963015a0434e723a558
X-WR-TIMEZONE:America/Chicago
BEGIN:VTIMEZONE
TZID:America/Chicago
BEGIN:STANDARD
TZNAME:CST
DTSTART:20221106T020000
TZOFFSETFROM:-0500
TZOFFSETTO:-0600
RDATE:20231105T020000
RDATE:20241103T020000
END:STANDARD
BEGIN:DAYLIGHT
TZNAME:CDT
DTSTART:20230312T020000
TZOFFSETFROM:-0600
TZOFFSETTO:-0500
RDATE:20240310T020000
END:DAYLIGHT
END:VTIMEZONE
BEGIN:VEVENT
UID:583cfd20-86bd-4e6e-bb0e-e8aecb40193d
DTSTAMP:20260422T022048Z
DESCRIPTION:
DTSTART;TZID=America/Chicago:20230525T100000
DTEND;TZID=America/Chicago:20230525T140000
LOCATION:Cleburne County\, Waychoff Senior Center\, 320 Trailwood Dr.\, Heb
 er Springs\, AR
SUMMARY:Estate Planning Clinic
END:VEVENT
END:VCALENDAR
