BEGIN:VCALENDAR
VERSION:2.0
PRODID:-//arlegalaid.org//NONSGML kigkonsult.se iCalcreator 2.30.10//
CALSCALE:GREGORIAN
METHOD:PUBLISH
UID:2ac95417-89d9-4fb8-ac3d-17c328a90392
X-WR-CALDESC:
X-WR-RELCALID:9e9669259b9177087b449e96d71c12d8
X-WR-TIMEZONE:America/Chicago
BEGIN:VTIMEZONE
TZID:America/Chicago
BEGIN:STANDARD
TZNAME:CST
DTSTART:20221106T020000
TZOFFSETFROM:-0500
TZOFFSETTO:-0600
RDATE:20231105T020000
RDATE:20241103T020000
END:STANDARD
BEGIN:DAYLIGHT
TZNAME:CDT
DTSTART:20230312T020000
TZOFFSETFROM:-0600
TZOFFSETTO:-0500
RDATE:20240310T020000
END:DAYLIGHT
END:VTIMEZONE
BEGIN:VEVENT
UID:8c30f8c3-7b73-4054-92e8-96d1049a0088
DTSTAMP:20260422T010624Z
DESCRIPTION:
DTSTART;TZID=America/Chicago:20230601T100000
DTEND;TZID=America/Chicago:20230601T140000
LOCATION:Marvell\, AR
SUMMARY:Estate Planning and Record Sealing Clinic
END:VEVENT
END:VCALENDAR
