BEGIN:VCALENDAR
VERSION:2.0
PRODID:-//arlegalaid.org//NONSGML kigkonsult.se iCalcreator 2.30.10//
CALSCALE:GREGORIAN
METHOD:PUBLISH
UID:3e932036-484b-4862-a8a3-d1f021ed9814
X-WR-CALDESC:
X-WR-RELCALID:9a636ace8e0644934a05b7aa5e4d705d
X-WR-TIMEZONE:America/Chicago
BEGIN:VTIMEZONE
TZID:America/Chicago
BEGIN:STANDARD
TZNAME:CST
DTSTART:20221106T020000
TZOFFSETFROM:-0500
TZOFFSETTO:-0600
RDATE:20231105T020000
RDATE:20241103T020000
END:STANDARD
BEGIN:DAYLIGHT
TZNAME:CDT
DTSTART:20230312T020000
TZOFFSETFROM:-0600
TZOFFSETTO:-0500
RDATE:20240310T020000
END:DAYLIGHT
END:VTIMEZONE
BEGIN:VEVENT
UID:8487447e-5b2c-45d7-89ac-77ed9026182a
DTSTAMP:20260422T011124Z
DESCRIPTION:
DTSTART;TZID=America/Chicago:20230602T090000
DTEND;TZID=America/Chicago:20230602T150000
LOCATION:Odell McCallum\, Community Center\, 325 Magnolia St.\, Wynne\, AR
SUMMARY:Disaster Relief Legal Clinic
END:VEVENT
END:VCALENDAR
