BEGIN:VCALENDAR
VERSION:2.0
PRODID:-//arlegalaid.org//NONSGML kigkonsult.se iCalcreator 2.30.10//
CALSCALE:GREGORIAN
METHOD:PUBLISH
UID:66b38db7-a8ae-42e8-8264-2baba62ebcab
X-WR-CALDESC:
X-WR-RELCALID:70181aa116e878907a4b6cbb0c630efa
X-WR-TIMEZONE:America/Chicago
BEGIN:VTIMEZONE
TZID:America/Chicago
BEGIN:STANDARD
TZNAME:CST
DTSTART:20221106T020000
TZOFFSETFROM:-0500
TZOFFSETTO:-0600
RDATE:20231105T020000
RDATE:20241103T020000
END:STANDARD
BEGIN:DAYLIGHT
TZNAME:CDT
DTSTART:20230312T020000
TZOFFSETFROM:-0600
TZOFFSETTO:-0500
RDATE:20240310T020000
END:DAYLIGHT
END:VTIMEZONE
BEGIN:VEVENT
UID:926f5777-9578-4516-bea5-9275fb13bccd
DTSTAMP:20260422T010343Z
DESCRIPTION:
DTSTART;TZID=America/Chicago:20230607T090000
DTEND;TZID=America/Chicago:20230607T150000
LOCATION:Center for Non-Profits\, 1200 W Walnut\, Rogers AR
SUMMARY:Record Sealing Clinic & IRS Problem Solving Day
END:VEVENT
END:VCALENDAR
