BEGIN:VCALENDAR
VERSION:2.0
PRODID:-//arlegalaid.org//NONSGML kigkonsult.se iCalcreator 2.30.10//
CALSCALE:GREGORIAN
METHOD:PUBLISH
UID:28fd8bdd-67e4-4d8a-8dda-2e95d84caf68
X-WR-CALDESC:Sign up by clicking on the link.
X-WR-RELCALID:7f1658dafe19bb4f3eb835e2603f93f9
X-WR-TIMEZONE:America/Chicago
BEGIN:VTIMEZONE
TZID:America/Chicago
BEGIN:STANDARD
TZNAME:CST
DTSTART:20221106T020000
TZOFFSETFROM:-0500
TZOFFSETTO:-0600
RDATE:20231105T020000
RDATE:20241103T020000
END:STANDARD
BEGIN:DAYLIGHT
TZNAME:CDT
DTSTART:20230312T020000
TZOFFSETFROM:-0600
TZOFFSETTO:-0500
RDATE:20240310T020000
END:DAYLIGHT
END:VTIMEZONE
BEGIN:VEVENT
UID:7b12f1c4-5f3c-464a-a42b-b792a630b15d
DTSTAMP:20260422T005801Z
DESCRIPTION:Sign up by clicking on the link.
DTSTART;TZID=America/Chicago:20230609T090000
DTEND;TZID=America/Chicago:20230609T120000
LOCATION:Washington County Law Library
SUMMARY:Help Desk: Washington County Law Library
END:VEVENT
END:VCALENDAR
