BEGIN:VCALENDAR
VERSION:2.0
PRODID:-//arlegalaid.org//NONSGML kigkonsult.se iCalcreator 2.30.10//
CALSCALE:GREGORIAN
METHOD:PUBLISH
UID:21dee6bd-4ca3-47b1-904c-38d8939e4580
X-WR-CALDESC:
X-WR-RELCALID:6ef5bdf15166b2f3f3fb47062520df1a
X-WR-TIMEZONE:America/Chicago
BEGIN:VTIMEZONE
TZID:America/Chicago
BEGIN:STANDARD
TZNAME:CST
DTSTART:20221106T020000
TZOFFSETFROM:-0500
TZOFFSETTO:-0600
RDATE:20231105T020000
RDATE:20241103T020000
END:STANDARD
BEGIN:DAYLIGHT
TZNAME:CDT
DTSTART:20230312T020000
TZOFFSETFROM:-0600
TZOFFSETTO:-0500
RDATE:20240310T020000
END:DAYLIGHT
END:VTIMEZONE
BEGIN:VEVENT
UID:226733ee-49d7-4620-a4ef-303b5bbde3f9
DTSTAMP:20260422T010456Z
DESCRIPTION:
DTSTART;TZID=America/Chicago:20230610T100000
DTEND;TZID=America/Chicago:20230610T170000
LOCATION:Downtown Jonesboro
SUMMARY:NEA Pride Pride Festival
END:VEVENT
END:VCALENDAR
