BEGIN:VCALENDAR
VERSION:2.0
PRODID:-//arlegalaid.org//NONSGML kigkonsult.se iCalcreator 2.30.10//
CALSCALE:GREGORIAN
METHOD:PUBLISH
UID:6f9a3cce-06f7-4336-8eb6-127cbcd02b8c
X-WR-CALDESC:Sign up by clicking on the link.
X-WR-RELCALID:707962ec0582acafff3fdf650fe4f4bb
X-WR-TIMEZONE:America/Chicago
BEGIN:VTIMEZONE
TZID:America/Chicago
BEGIN:STANDARD
TZNAME:CST
DTSTART:20221106T020000
TZOFFSETFROM:-0500
TZOFFSETTO:-0600
RDATE:20231105T020000
RDATE:20241103T020000
END:STANDARD
BEGIN:DAYLIGHT
TZNAME:CDT
DTSTART:20230312T020000
TZOFFSETFROM:-0600
TZOFFSETTO:-0500
RDATE:20240310T020000
END:DAYLIGHT
END:VTIMEZONE
BEGIN:VEVENT
UID:5d6b4dc1-80a8-4c9c-b74c-746465935a6b
DTSTAMP:20260422T010456Z
DESCRIPTION:Sign up by clicking on the link.
DTSTART;TZID=America/Chicago:20230623T090000
DTEND;TZID=America/Chicago:20230623T120000
LOCATION:Washington County Law Library
SUMMARY:Help Desk: Washington County Law Library
END:VEVENT
END:VCALENDAR
