BEGIN:VCALENDAR
VERSION:2.0
PRODID:-//arlegalaid.org//NONSGML kigkonsult.se iCalcreator 2.30.10//
CALSCALE:GREGORIAN
METHOD:PUBLISH
UID:50edec29-51d8-44e0-aeec-4d0d9459d61a
X-WR-CALDESC:
X-WR-RELCALID:e5b95e783ec9baa5e97a9e79f6d4de33
X-WR-TIMEZONE:America/Chicago
BEGIN:VTIMEZONE
TZID:America/Chicago
BEGIN:STANDARD
TZNAME:CST
DTSTART:20221106T020000
TZOFFSETFROM:-0500
TZOFFSETTO:-0600
RDATE:20231105T020000
RDATE:20241103T020000
END:STANDARD
BEGIN:DAYLIGHT
TZNAME:CDT
DTSTART:20230312T020000
TZOFFSETFROM:-0600
TZOFFSETTO:-0500
RDATE:20240310T020000
END:DAYLIGHT
END:VTIMEZONE
BEGIN:VEVENT
UID:0675a311-1d00-406d-ad66-33f24938a2b2
DTSTAMP:20260422T011944Z
DESCRIPTION:
DTSTART;TZID=America/Chicago:20230623T100000
DTEND;TZID=America/Chicago:20230623T140000
LOCATION:
SUMMARY:Domestic Justice Family Law Informational Session
END:VEVENT
END:VCALENDAR
