BEGIN:VCALENDAR
VERSION:2.0
PRODID:-//arlegalaid.org//NONSGML kigkonsult.se iCalcreator 2.30.10//
CALSCALE:GREGORIAN
METHOD:PUBLISH
UID:f9ab552f-dc5f-4f54-99fb-b03e2ef381c9
X-WR-CALDESC:Please pre-register\, if possible\, by calling 1-870-972-9224 
 or scanning the QR code on Flyer.
X-WR-RELCALID:c1ec13c8ed6a7903cbe9048d7cd7cc24
X-WR-TIMEZONE:America/Chicago
BEGIN:VTIMEZONE
TZID:America/Chicago
BEGIN:STANDARD
TZNAME:CST
DTSTART:20221106T020000
TZOFFSETFROM:-0500
TZOFFSETTO:-0600
RDATE:20231105T020000
RDATE:20241103T020000
END:STANDARD
BEGIN:DAYLIGHT
TZNAME:CDT
DTSTART:20230312T020000
TZOFFSETFROM:-0600
TZOFFSETTO:-0500
RDATE:20240310T020000
END:DAYLIGHT
END:VTIMEZONE
BEGIN:VEVENT
UID:c78d0ef2-213c-4401-8ecd-e155230e37e5
DTSTAMP:20260422T010418Z
DESCRIPTION:Please pre-register\, if possible\, by calling 1-870-972-9224 o
 r scanning the QR code on Flyer.
DTSTART;TZID=America/Chicago:20230623T180000
DTEND;TZID=America/Chicago:20230623T210000
LOCATION:Fayetteville Town Center\, During the TransMarch Event
SUMMARY:PRIDE CLINIC: Name Change and Estate Planning
END:VEVENT
END:VCALENDAR
