BEGIN:VCALENDAR
VERSION:2.0
PRODID:-//arlegalaid.org//NONSGML kigkonsult.se iCalcreator 2.30.10//
CALSCALE:GREGORIAN
METHOD:PUBLISH
UID:904e66e2-3074-4a73-8979-498622ae46cc
X-WR-CALDESC:
X-WR-RELCALID:7f8e6a8cb969105ac22acf52aa7ff07a
X-WR-TIMEZONE:America/Chicago
BEGIN:VTIMEZONE
TZID:America/Chicago
BEGIN:STANDARD
TZNAME:CST
DTSTART:20221106T020000
TZOFFSETFROM:-0500
TZOFFSETTO:-0600
RDATE:20231105T020000
RDATE:20241103T020000
END:STANDARD
BEGIN:DAYLIGHT
TZNAME:CDT
DTSTART:20230312T020000
TZOFFSETFROM:-0600
TZOFFSETTO:-0500
RDATE:20240310T020000
END:DAYLIGHT
END:VTIMEZONE
BEGIN:VEVENT
UID:d160daee-c650-486a-9b27-cd1d25ad1b3d
DTSTAMP:20260422T010624Z
DESCRIPTION:
DTSTART;TZID=America/Chicago:20230624T000000
DTEND;TZID=America/Chicago:20230624T235900
LOCATION:NWA Pride Festival\, Fayetteville\, AR
SUMMARY:NWA Pride Festival
END:VEVENT
END:VCALENDAR
