BEGIN:VCALENDAR
VERSION:2.0
PRODID:-//arlegalaid.org//NONSGML kigkonsult.se iCalcreator 2.30.10//
CALSCALE:GREGORIAN
METHOD:PUBLISH
UID:ff3fb60a-8b15-4cf6-8a6c-9d33d72f11bc
X-WR-CALDESC:
X-WR-RELCALID:191b7e1b070d26db5b4b9c790db325d3
X-WR-TIMEZONE:America/Chicago
BEGIN:VTIMEZONE
TZID:America/Chicago
BEGIN:STANDARD
TZNAME:CST
DTSTART:20221106T020000
TZOFFSETFROM:-0500
TZOFFSETTO:-0600
RDATE:20231105T020000
RDATE:20241103T020000
END:STANDARD
BEGIN:DAYLIGHT
TZNAME:CDT
DTSTART:20230312T020000
TZOFFSETFROM:-0600
TZOFFSETTO:-0500
RDATE:20240310T020000
END:DAYLIGHT
END:VTIMEZONE
BEGIN:VEVENT
UID:13c13999-bfac-48eb-9b0d-a64e9af15090
DTSTAMP:20260422T010731Z
DESCRIPTION:
DTSTART;TZID=America/Chicago:20230630T100000
DTEND;TZID=America/Chicago:20230630T150000
LOCATION:
SUMMARY:Divorce\, Family Law\, and Estate Planning Clinic
END:VEVENT
END:VCALENDAR
