BEGIN:VCALENDAR
VERSION:2.0
PRODID:-//arlegalaid.org//NONSGML kigkonsult.se iCalcreator 2.30.10//
CALSCALE:GREGORIAN
METHOD:PUBLISH
UID:ced6edbf-4fc0-42d0-a0f8-97704042db64
X-WR-CALDESC:At the St. Paul's Episcopal Church\, 224 N. East Avenue\, Faye
 tteville\, AR. \n\nRegistration is recommended. Please scan QR code or cal
 l 1-870-972-9224.
X-WR-RELCALID:cd142c67b7574c576faee59e6c89292d
X-WR-TIMEZONE:America/Chicago
BEGIN:VTIMEZONE
TZID:America/Chicago
BEGIN:STANDARD
TZNAME:CST
DTSTART:20221106T020000
TZOFFSETFROM:-0500
TZOFFSETTO:-0600
RDATE:20231105T020000
RDATE:20241103T020000
END:STANDARD
BEGIN:DAYLIGHT
TZNAME:CDT
DTSTART:20230312T020000
TZOFFSETFROM:-0600
TZOFFSETTO:-0500
RDATE:20240310T020000
END:DAYLIGHT
END:VTIMEZONE
BEGIN:VEVENT
UID:e645363d-18b1-42d7-8ba0-09d5ad5db9e2
DTSTAMP:20260421T233152Z
DESCRIPTION:At the St. Paul's Episcopal Church\, 224 N. East Avenue\, Fayet
 teville\, AR. \n\nRegistration is recommended. Please scan QR code or call
  1-870-972-9224.
DTSTART;TZID=America/Chicago:20230708T090000
DTEND;TZID=America/Chicago:20230708T150000
LOCATION:224 N. East Avenue\, Fayetteville\, AR
SUMMARY:Record Sealing Clinic in Fayetteville\, AR
END:VEVENT
END:VCALENDAR
