BEGIN:VCALENDAR
VERSION:2.0
PRODID:-//arlegalaid.org//NONSGML kigkonsult.se iCalcreator 2.30.10//
CALSCALE:GREGORIAN
METHOD:PUBLISH
UID:4dfc9b6f-29e6-4a93-ad6b-b92095959c66
X-WR-CALDESC:Sign up by clicking on the link.
X-WR-RELCALID:4309557613e484ee5d71efa864e5a618
X-WR-TIMEZONE:America/Chicago
BEGIN:VTIMEZONE
TZID:America/Chicago
BEGIN:STANDARD
TZNAME:CST
DTSTART:20221106T020000
TZOFFSETFROM:-0500
TZOFFSETTO:-0600
RDATE:20231105T020000
RDATE:20241103T020000
END:STANDARD
BEGIN:DAYLIGHT
TZNAME:CDT
DTSTART:20230312T020000
TZOFFSETFROM:-0600
TZOFFSETTO:-0500
RDATE:20240310T020000
END:DAYLIGHT
END:VTIMEZONE
BEGIN:VEVENT
UID:1f33efc1-e590-4189-99c8-e3fa756990e7
DTSTAMP:20260421T232147Z
DESCRIPTION:Sign up by clicking on the link.
DTSTART;TZID=America/Chicago:20230714T090000
DTEND;TZID=America/Chicago:20230714T120000
LOCATION:Washington County Law Library
SUMMARY:Help Desk: Washington County Law Library
END:VEVENT
END:VCALENDAR
