BEGIN:VCALENDAR
VERSION:2.0
PRODID:-//arlegalaid.org//NONSGML kigkonsult.se iCalcreator 2.30.10//
CALSCALE:GREGORIAN
METHOD:PUBLISH
UID:6569673b-1fe4-41c9-ab5f-627e9b619ac5
X-WR-CALDESC:Date: July 18th\n\nHours: 9-2\nSponsored by: Concerned Citizen
 s for Monroe County \,Inc.
X-WR-RELCALID:91277129d59314ce205acec4863d1ae8
X-WR-TIMEZONE:America/Chicago
BEGIN:VTIMEZONE
TZID:America/Chicago
BEGIN:STANDARD
TZNAME:CST
DTSTART:20221106T020000
TZOFFSETFROM:-0500
TZOFFSETTO:-0600
RDATE:20231105T020000
RDATE:20241103T020000
END:STANDARD
BEGIN:DAYLIGHT
TZNAME:CDT
DTSTART:20230312T020000
TZOFFSETFROM:-0600
TZOFFSETTO:-0500
RDATE:20240310T020000
END:DAYLIGHT
END:VTIMEZONE
BEGIN:VEVENT
UID:78c571b1-b18e-4070-803d-059527b8787f
DTSTAMP:20260421T232707Z
DESCRIPTION:Date: July 18th\n\nHours: 9-2\nSponsored by: Concerned Citizens
  for Monroe County \,Inc.
DTSTART;TZID=America/Chicago:20230718T090000
DTEND;TZID=America/Chicago:20230719T140000
LOCATION:116 South Main Street \, Brinkley\, AR
SUMMARY:Estate Planning and Record Sealing Clinic
END:VEVENT
END:VCALENDAR
