BEGIN:VCALENDAR
VERSION:2.0
PRODID:-//arlegalaid.org//NONSGML kigkonsult.se iCalcreator 2.30.10//
CALSCALE:GREGORIAN
METHOD:PUBLISH
UID:1827a058-730d-4266-b1a5-b6142b755a72
X-WR-CALDESC:Sign up by clicking on the link.
X-WR-RELCALID:fa81e68217ea31caaf3d7de02027c3c3
X-WR-TIMEZONE:America/Chicago
BEGIN:VTIMEZONE
TZID:America/Chicago
BEGIN:STANDARD
TZNAME:CST
DTSTART:20221106T020000
TZOFFSETFROM:-0500
TZOFFSETTO:-0600
RDATE:20231105T020000
RDATE:20241103T020000
END:STANDARD
BEGIN:DAYLIGHT
TZNAME:CDT
DTSTART:20230312T020000
TZOFFSETFROM:-0600
TZOFFSETTO:-0500
RDATE:20240310T020000
END:DAYLIGHT
END:VTIMEZONE
BEGIN:VEVENT
UID:4b42960e-a968-4b53-a1c4-a21f03f1fc28
DTSTAMP:20260421T232549Z
DESCRIPTION:Sign up by clicking on the link.
DTSTART;TZID=America/Chicago:20230721T090000
DTEND;TZID=America/Chicago:20230721T120000
LOCATION:Washington County Law Library
SUMMARY:Help Desk: Washington County Law Library
END:VEVENT
END:VCALENDAR
