BEGIN:VCALENDAR
VERSION:2.0
PRODID:-//arlegalaid.org//NONSGML kigkonsult.se iCalcreator 2.30.10//
CALSCALE:GREGORIAN
METHOD:PUBLISH
UID:079b9079-a792-425e-a1ed-222e28069b29
X-WR-CALDESC:Sign up by clicking on the link.
X-WR-RELCALID:5fc5cdf82f58571376a248a03f224c37
X-WR-TIMEZONE:America/Chicago
BEGIN:VTIMEZONE
TZID:America/Chicago
BEGIN:STANDARD
TZNAME:CST
DTSTART:20221106T020000
TZOFFSETFROM:-0500
TZOFFSETTO:-0600
RDATE:20231105T020000
RDATE:20241103T020000
END:STANDARD
BEGIN:DAYLIGHT
TZNAME:CDT
DTSTART:20230312T020000
TZOFFSETFROM:-0600
TZOFFSETTO:-0500
RDATE:20240310T020000
END:DAYLIGHT
END:VTIMEZONE
BEGIN:VEVENT
UID:a1d08d8f-c24c-4860-b2bf-8b65e8699b72
DTSTAMP:20260421T232621Z
DESCRIPTION:Sign up by clicking on the link.
DTSTART;TZID=America/Chicago:20230728T090000
DTEND;TZID=America/Chicago:20230728T120000
LOCATION:Washington County Law Library
SUMMARY:Help Desk: Washington County Law Library
END:VEVENT
END:VCALENDAR
