BEGIN:VCALENDAR
VERSION:2.0
PRODID:-//arlegalaid.org//NONSGML kigkonsult.se iCalcreator 2.30.10//
CALSCALE:GREGORIAN
METHOD:PUBLISH
UID:6d087a6c-d771-4df8-a60a-56ad7a0e4386
X-WR-CALDESC:
X-WR-RELCALID:18e51beda84376f859bc214d052299f9
X-WR-TIMEZONE:America/Chicago
BEGIN:VTIMEZONE
TZID:America/Chicago
BEGIN:STANDARD
TZNAME:CST
DTSTART:20221106T020000
TZOFFSETFROM:-0500
TZOFFSETTO:-0600
RDATE:20231105T020000
RDATE:20241103T020000
END:STANDARD
BEGIN:DAYLIGHT
TZNAME:CDT
DTSTART:20230312T020000
TZOFFSETFROM:-0600
TZOFFSETTO:-0500
RDATE:20240310T020000
END:DAYLIGHT
END:VTIMEZONE
BEGIN:VEVENT
UID:16469bf9-14f4-4e6d-a93d-ef9875bab0cc
DTSTAMP:20260421T232509Z
DESCRIPTION:
DTSTART;TZID=America/Chicago:20230728T090000
DTEND;TZID=America/Chicago:20230728T143000
LOCATION:3 Children's Way \, Little Rock \, AR 72202 US
SUMMARY:Guardianship Clinic at ACH
END:VEVENT
END:VCALENDAR
