BEGIN:VCALENDAR
VERSION:2.0
PRODID:-//arlegalaid.org//NONSGML kigkonsult.se iCalcreator 2.30.10//
CALSCALE:GREGORIAN
METHOD:PUBLISH
UID:96e62d2d-f1e5-4b92-964a-e0efabda209f
X-WR-CALDESC:
X-WR-RELCALID:add20ede1dd2324877471eb01b7a0848
X-WR-TIMEZONE:America/Chicago
BEGIN:VTIMEZONE
TZID:America/Chicago
BEGIN:STANDARD
TZNAME:CST
DTSTART:20221106T020000
TZOFFSETFROM:-0500
TZOFFSETTO:-0600
RDATE:20231105T020000
RDATE:20241103T020000
END:STANDARD
BEGIN:DAYLIGHT
TZNAME:CDT
DTSTART:20230312T020000
TZOFFSETFROM:-0600
TZOFFSETTO:-0500
RDATE:20240310T020000
END:DAYLIGHT
END:VTIMEZONE
BEGIN:VEVENT
UID:e65550a8-84b9-4503-9b9f-5048ab4338b7
DTSTAMP:20260421T215524Z
DESCRIPTION:
DTSTART;TZID=America/Chicago:20230802T160000
DTEND;TZID=America/Chicago:20230802T170000
LOCATION:Facebook page live: arlegalaid
SUMMARY:Facebook Live: The 1099 FORM
END:VEVENT
END:VCALENDAR
