BEGIN:VCALENDAR
VERSION:2.0
PRODID:-//arlegalaid.org//NONSGML kigkonsult.se iCalcreator 2.30.10//
CALSCALE:GREGORIAN
METHOD:PUBLISH
UID:ce193d33-822d-45a8-9f20-cc704346fa82
X-WR-CALDESC:
X-WR-RELCALID:0c775e9bdb834b5121a9021230000d36
X-WR-TIMEZONE:America/Chicago
BEGIN:VTIMEZONE
TZID:America/Chicago
BEGIN:STANDARD
TZNAME:CST
DTSTART:20221106T020000
TZOFFSETFROM:-0500
TZOFFSETTO:-0600
RDATE:20231105T020000
RDATE:20241103T020000
END:STANDARD
BEGIN:DAYLIGHT
TZNAME:CDT
DTSTART:20230312T020000
TZOFFSETFROM:-0600
TZOFFSETTO:-0500
RDATE:20240310T020000
END:DAYLIGHT
END:VTIMEZONE
BEGIN:VEVENT
UID:1848b7db-03c2-4a86-9dfe-869b4b98f717
DTSTAMP:20260421T215320Z
DESCRIPTION:
DTSTART;TZID=America/Chicago:20230804T100000
DTEND;TZID=America/Chicago:20230804T113000
LOCATION:
SUMMARY:Fair Housing Training for Real Estate Professionals
END:VEVENT
END:VCALENDAR
