BEGIN:VCALENDAR
VERSION:2.0
PRODID:-//arlegalaid.org//NONSGML kigkonsult.se iCalcreator 2.30.10//
CALSCALE:GREGORIAN
METHOD:PUBLISH
UID:51839f0a-7175-4acb-bf51-2f3256b81513
X-WR-CALDESC:Sign up by clicking on the link.
X-WR-RELCALID:f72cac9823861994fadc5801d3c72baf
X-WR-TIMEZONE:America/Chicago
BEGIN:VTIMEZONE
TZID:America/Chicago
BEGIN:STANDARD
TZNAME:CST
DTSTART:20221106T020000
TZOFFSETFROM:-0500
TZOFFSETTO:-0600
RDATE:20231105T020000
RDATE:20241103T020000
END:STANDARD
BEGIN:DAYLIGHT
TZNAME:CDT
DTSTART:20230312T020000
TZOFFSETFROM:-0600
TZOFFSETTO:-0500
RDATE:20240310T020000
END:DAYLIGHT
END:VTIMEZONE
BEGIN:VEVENT
UID:e195d2a0-1894-4972-83c4-32afae98479e
DTSTAMP:20260421T214845Z
DESCRIPTION:Sign up by clicking on the link.
DTSTART;TZID=America/Chicago:20230811T090000
DTEND;TZID=America/Chicago:20230811T120000
LOCATION:Washington County Law Library
SUMMARY:Help Desk: Washington County Law Library
END:VEVENT
END:VCALENDAR
