BEGIN:VCALENDAR
VERSION:2.0
PRODID:-//arlegalaid.org//NONSGML kigkonsult.se iCalcreator 2.30.10//
CALSCALE:GREGORIAN
METHOD:PUBLISH
UID:3bc7a143-203b-441b-86db-6cb806a2560e
X-WR-CALDESC:Sign up by clicking on the link.
X-WR-RELCALID:bd5f78bbff67febb2318a22b49a2c3b2
X-WR-TIMEZONE:America/Chicago
BEGIN:VTIMEZONE
TZID:America/Chicago
BEGIN:STANDARD
TZNAME:CST
DTSTART:20221106T020000
TZOFFSETFROM:-0500
TZOFFSETTO:-0600
RDATE:20231105T020000
RDATE:20241103T020000
END:STANDARD
BEGIN:DAYLIGHT
TZNAME:CDT
DTSTART:20230312T020000
TZOFFSETFROM:-0600
TZOFFSETTO:-0500
RDATE:20240310T020000
END:DAYLIGHT
END:VTIMEZONE
BEGIN:VEVENT
UID:ca91f499-4e16-4fef-9399-76f6b0c60398
DTSTAMP:20260421T215153Z
DESCRIPTION:Sign up by clicking on the link.
DTSTART;TZID=America/Chicago:20230818T090000
DTEND;TZID=America/Chicago:20230818T120000
LOCATION:Washington County Law Library
SUMMARY:Help Desk: Washington County Law Library
END:VEVENT
END:VCALENDAR
