BEGIN:VCALENDAR
VERSION:2.0
PRODID:-//arlegalaid.org//NONSGML kigkonsult.se iCalcreator 2.30.10//
CALSCALE:GREGORIAN
METHOD:PUBLISH
UID:e4045d1a-9b37-4ae1-ba9b-8116724b4c97
X-WR-CALDESC:
X-WR-RELCALID:121f30e8dc989865e21b9fcf113d1ca1
X-WR-TIMEZONE:America/Chicago
BEGIN:VTIMEZONE
TZID:America/Chicago
BEGIN:STANDARD
TZNAME:CST
DTSTART:20221106T020000
TZOFFSETFROM:-0500
TZOFFSETTO:-0600
RDATE:20231105T020000
RDATE:20241103T020000
END:STANDARD
BEGIN:DAYLIGHT
TZNAME:CDT
DTSTART:20230312T020000
TZOFFSETFROM:-0600
TZOFFSETTO:-0500
RDATE:20240310T020000
END:DAYLIGHT
END:VTIMEZONE
BEGIN:VEVENT
UID:14bf5dd2-120d-4ada-95ab-6b481a6c9107
DTSTAMP:20260421T215116Z
DESCRIPTION:
DTSTART;TZID=America/Chicago:20230818T110000
DTEND;TZID=America/Chicago:20230818T130000
LOCATION:
SUMMARY:Fair Housing Training: Gender Identity and Sexual Orientation Discr
 imination
END:VEVENT
END:VCALENDAR
