BEGIN:VCALENDAR
VERSION:2.0
PRODID:-//arlegalaid.org//NONSGML kigkonsult.se iCalcreator 2.30.10//
CALSCALE:GREGORIAN
METHOD:PUBLISH
UID:71c889ca-64cf-4d54-b533-e97392843c72
X-WR-CALDESC:Sign up by clicking on the link.
X-WR-RELCALID:bcaf800f01ae831d2c8c3da4ddc5fdb6
X-WR-TIMEZONE:America/Chicago
BEGIN:VTIMEZONE
TZID:America/Chicago
BEGIN:STANDARD
TZNAME:CST
DTSTART:20221106T020000
TZOFFSETFROM:-0500
TZOFFSETTO:-0600
RDATE:20231105T020000
RDATE:20241103T020000
END:STANDARD
BEGIN:DAYLIGHT
TZNAME:CDT
DTSTART:20230312T020000
TZOFFSETFROM:-0600
TZOFFSETTO:-0500
RDATE:20240310T020000
END:DAYLIGHT
END:VTIMEZONE
BEGIN:VEVENT
UID:b29b1dd6-1877-46a8-b8d8-8bd5db76d087
DTSTAMP:20260421T215301Z
DESCRIPTION:Sign up by clicking on the link.
DTSTART;TZID=America/Chicago:20230825T090000
DTEND;TZID=America/Chicago:20230825T120000
LOCATION:Washington County Law Library
SUMMARY:Help Desk: Washington County Law Library
END:VEVENT
END:VCALENDAR
