BEGIN:VCALENDAR
VERSION:2.0
PRODID:-//arlegalaid.org//NONSGML kigkonsult.se iCalcreator 2.30.10//
CALSCALE:GREGORIAN
METHOD:PUBLISH
UID:328477bb-cb6d-4021-b294-579058a09ff1
X-WR-CALDESC:
X-WR-RELCALID:2b8ad80a1dba92daa2fbb9e099fd4253
X-WR-TIMEZONE:America/Chicago
BEGIN:VTIMEZONE
TZID:America/Chicago
BEGIN:STANDARD
TZNAME:CST
DTSTART:20221106T020000
TZOFFSETFROM:-0500
TZOFFSETTO:-0600
RDATE:20231105T020000
RDATE:20241103T020000
END:STANDARD
BEGIN:DAYLIGHT
TZNAME:CDT
DTSTART:20230312T020000
TZOFFSETFROM:-0600
TZOFFSETTO:-0500
RDATE:20240310T020000
END:DAYLIGHT
END:VTIMEZONE
BEGIN:VEVENT
UID:ca247b3b-42cf-448f-80e2-038269e79829
DTSTAMP:20260421T221153Z
DESCRIPTION:
DTSTART;TZID=America/Chicago:20230828T090000
DTEND;TZID=America/Chicago:20230828T150000
LOCATION:Forrest City Library\, 421 S Washington St.\, Forrest City\, AR
SUMMARY:Estate Planning and Record Sealing Clinic
END:VEVENT
END:VCALENDAR
