BEGIN:VCALENDAR
VERSION:2.0
PRODID:-//arlegalaid.org//NONSGML kigkonsult.se iCalcreator 2.30.10//
CALSCALE:GREGORIAN
METHOD:PUBLISH
UID:42582efa-bf2c-49eb-ac37-79f103882c93
X-WR-CALDESC:Sign up by clicking on the link.
X-WR-RELCALID:05c55b2e9c45db2bff2585f3c9e2c934
X-WR-TIMEZONE:America/Chicago
BEGIN:VTIMEZONE
TZID:America/Chicago
BEGIN:STANDARD
TZNAME:CST
DTSTART:20221106T020000
TZOFFSETFROM:-0500
TZOFFSETTO:-0600
RDATE:20231105T020000
RDATE:20241103T020000
END:STANDARD
BEGIN:DAYLIGHT
TZNAME:CDT
DTSTART:20230312T020000
TZOFFSETFROM:-0600
TZOFFSETTO:-0500
RDATE:20240310T020000
RDATE:20250309T020000
END:DAYLIGHT
END:VTIMEZONE
BEGIN:VEVENT
UID:64b83f24-6ba3-48d7-9aee-17ba999d0a11
DTSTAMP:20260421T202012Z
DESCRIPTION:Sign up by clicking on the link.
DTSTART;TZID=America/Chicago:20230908T090000
DTEND;TZID=America/Chicago:20230908T120000
LOCATION:Washington County Law Library
SUMMARY:Help Desk: Washington County Law Library
END:VEVENT
END:VCALENDAR
