BEGIN:VCALENDAR
VERSION:2.0
PRODID:-//arlegalaid.org//NONSGML kigkonsult.se iCalcreator 2.30.10//
CALSCALE:GREGORIAN
METHOD:PUBLISH
UID:44b6ae19-ae25-459a-8e56-bec0fa045883
X-WR-CALDESC:IN-PERSON or VIRTUALLY VIA ZOOM \n\n12-4pm \n3 Credit hrs. \nF
 REE Lunch Provided
X-WR-RELCALID:70c3730bedd9366cc3f745a7d96da33c
X-WR-TIMEZONE:America/Chicago
BEGIN:VTIMEZONE
TZID:America/Chicago
BEGIN:STANDARD
TZNAME:CST
DTSTART:20221106T020000
TZOFFSETFROM:-0500
TZOFFSETTO:-0600
RDATE:20231105T020000
RDATE:20241103T020000
END:STANDARD
BEGIN:DAYLIGHT
TZNAME:CDT
DTSTART:20230312T020000
TZOFFSETFROM:-0600
TZOFFSETTO:-0500
RDATE:20240310T020000
RDATE:20250309T020000
END:DAYLIGHT
END:VTIMEZONE
BEGIN:VEVENT
UID:6105f332-0aec-41d2-894c-34d0e2c0d48b
DTSTAMP:20260421T201713Z
DESCRIPTION:IN-PERSON or VIRTUALLY VIA ZOOM \n\n12-4pm \n3 Credit hrs. \nFR
 EE Lunch Provided
DTSTART;TZID=America/Chicago:20230915T120000
DTEND;TZID=America/Chicago:20230915T160000
LOCATION:5111 W. JB Hunt Dr\, Rogers\, AR 72752 US
SUMMARY:NWA Naturalization CLE
END:VEVENT
END:VCALENDAR
