BEGIN:VCALENDAR
VERSION:2.0
PRODID:-//arlegalaid.org//NONSGML kigkonsult.se iCalcreator 2.30.10//
CALSCALE:GREGORIAN
METHOD:PUBLISH
UID:a62777e2-ba51-49d9-ad83-34cd0c20edd2
X-WR-CALDESC:What is record sealing: This is the process of hiding your cri
 minal record from public view. Once sealed\, the conduct is deemed by law 
 to never have occurred.
X-WR-RELCALID:1badbbdeacc02b9ee94606e62de0fa05
X-WR-TIMEZONE:America/Chicago
BEGIN:VTIMEZONE
TZID:America/Chicago
BEGIN:STANDARD
TZNAME:CST
DTSTART:20221106T020000
TZOFFSETFROM:-0500
TZOFFSETTO:-0600
RDATE:20231105T020000
RDATE:20241103T020000
END:STANDARD
BEGIN:DAYLIGHT
TZNAME:CDT
DTSTART:20230312T020000
TZOFFSETFROM:-0600
TZOFFSETTO:-0500
RDATE:20240310T020000
RDATE:20250309T020000
END:DAYLIGHT
END:VTIMEZONE
BEGIN:VEVENT
UID:82c8a027-f860-4e50-8287-7c415ac71119
DTSTAMP:20260421T201755Z
DESCRIPTION:What is record sealing: This is the process of hiding your crim
 inal record from public view. Once sealed\, the conduct is deemed by law t
 o never have occurred.
DTSTART;TZID=America/Chicago:20230916T090000
DTEND;TZID=America/Chicago:20230916T120000
LOCATION:Old St. James Missionary Baptist Church\, 4512 South Ohio Street \
 , Pine Bluff \, AR 71601 US
SUMMARY:Constitution Day Record Sealing Clinic
END:VEVENT
END:VCALENDAR
