BEGIN:VCALENDAR
VERSION:2.0
PRODID:-//arlegalaid.org//NONSGML kigkonsult.se iCalcreator 2.30.10//
CALSCALE:GREGORIAN
METHOD:PUBLISH
UID:a2ecac24-084f-44f9-8e4f-e15ce4146768
X-WR-CALDESC:FREE Naturalization screening and application completed by vol
 unteer attorneys \nSeptemebr 17\, 2023 \n1200 W. Walnut Street\, Rogers\, 
 AR 72758
X-WR-RELCALID:a8e0d19fb4baed3c79b76ae2e6befca7
X-WR-TIMEZONE:America/Chicago
BEGIN:VTIMEZONE
TZID:America/Chicago
BEGIN:STANDARD
TZNAME:CST
DTSTART:20221106T020000
TZOFFSETFROM:-0500
TZOFFSETTO:-0600
RDATE:20231105T020000
RDATE:20241103T020000
END:STANDARD
BEGIN:DAYLIGHT
TZNAME:CDT
DTSTART:20230312T020000
TZOFFSETFROM:-0600
TZOFFSETTO:-0500
RDATE:20240310T020000
RDATE:20250309T020000
END:DAYLIGHT
END:VTIMEZONE
BEGIN:VEVENT
UID:ed25dbf6-526f-4491-a5d4-dbfbc5cc839f
DTSTAMP:20260421T201835Z
DESCRIPTION:FREE Naturalization screening and application completed by volu
 nteer attorneys \nSeptemebr 17\, 2023 \n1200 W. Walnut Street\, Rogers\, A
 R 72758
DTSTART;TZID=America/Chicago:20230917T093000
DTEND;TZID=America/Chicago:20230917T160000
LOCATION:1200 W. Walnut St. \, Rogers \, AR 72758 US
SUMMARY:NWA Naturalization Clinic
END:VEVENT
END:VCALENDAR
