BEGIN:VCALENDAR
VERSION:2.0
PRODID:-//arlegalaid.org//NONSGML kigkonsult.se iCalcreator 2.30.10//
CALSCALE:GREGORIAN
METHOD:PUBLISH
UID:51fb7845-4ac2-40f4-b9e1-4553daf6d654
X-WR-CALDESC:
X-WR-RELCALID:f2314cde1db2a125913b847728f69358
X-WR-TIMEZONE:America/Chicago
BEGIN:VTIMEZONE
TZID:America/Chicago
BEGIN:STANDARD
TZNAME:CST
DTSTART:20221106T020000
TZOFFSETFROM:-0500
TZOFFSETTO:-0600
RDATE:20231105T020000
RDATE:20241103T020000
END:STANDARD
BEGIN:DAYLIGHT
TZNAME:CDT
DTSTART:20230312T020000
TZOFFSETFROM:-0600
TZOFFSETTO:-0500
RDATE:20240310T020000
RDATE:20250309T020000
END:DAYLIGHT
END:VTIMEZONE
BEGIN:VEVENT
UID:12c61eb3-5445-4006-b553-6e41e046b372
DTSTAMP:20260421T201702Z
DESCRIPTION:
DTSTART;TZID=America/Chicago:20230926T090000
DTEND;TZID=America/Chicago:20230926T140000
LOCATION:Episcopal Church 224 N. East Avenue\, Fayetteville \, AR 72701 US
SUMMARY:FREE Record Sealing
END:VEVENT
END:VCALENDAR
