BEGIN:VCALENDAR
VERSION:2.0
PRODID:-//arlegalaid.org//NONSGML kigkonsult.se iCalcreator 2.30.10//
CALSCALE:GREGORIAN
METHOD:PUBLISH
UID:70f8917f-b5e0-444e-8816-6d4d6aa650ed
X-WR-CALDESC:
X-WR-RELCALID:fbe273c6a9db27f0dc69e32b77b98ad1
X-WR-TIMEZONE:America/Chicago
BEGIN:VTIMEZONE
TZID:America/Chicago
BEGIN:STANDARD
TZNAME:CST
DTSTART:20221106T020000
TZOFFSETFROM:-0500
TZOFFSETTO:-0600
RDATE:20231105T020000
RDATE:20241103T020000
END:STANDARD
BEGIN:DAYLIGHT
TZNAME:CDT
DTSTART:20230312T020000
TZOFFSETFROM:-0600
TZOFFSETTO:-0500
RDATE:20240310T020000
RDATE:20250309T020000
END:DAYLIGHT
END:VTIMEZONE
BEGIN:VEVENT
UID:be4dc1fc-6792-4f41-ae32-54a9791d5739
DTSTAMP:20260421T202004Z
DESCRIPTION:
DTSTART;TZID=America/Chicago:20230930T090000
DTEND;TZID=America/Chicago:20230930T140000
LOCATION:NEA progress Building Downtown Jonesboro\, 410 S. Church St. \, Jo
 nesboro\, AR 72401 US
SUMMARY:Name Change and Estate Planning Clinic
END:VEVENT
END:VCALENDAR
